BEGIN:VCALENDAR
PRODID:-//HH//NONSGML Cascade Server//EN
VERSION:2.0
X-WR-CALNAME:GRADS-4C Seminar Speaker Series -Decoding the Chemical Languages of Plants
X-WR-TIMEZONE:America/New_York
X-WR-CALDESC:
BEGIN:VTIMEZONE
TZID:America/New_York
BEGIN:DAYLIGHT
TZOFFSETFROM:-0500
TZOFFSETTO:-0400
TZNAME:EDT
DTSTART:19700308T020000
RRULE:FREQ=YEARLY;BYMONTH=3;BYDAY=2SU
END:DAYLIGHT
BEGIN:STANDARD
TZOFFSETFROM:-0400
TZOFFSETTO:-0500
TZNAME:EST
DTSTART:19701101T020000
RRULE:FREQ=YEARLY;BYMONTH=11;BYDAY=1SU
END:STANDARD
END:VTIMEZONE
BEGIN:VEVENT
DTSTART:20260423T130000
DTEND:20260423T140000
DTSTAMP:20260421T223954
UID:02c039549804d33a774adfa25344c6aa
CREATED:20260318T170045
DESCRIPTION:This seminar will explore modern approaches to studying plant 
biochemistry. It will focus on how researchers investigate the chemical si
gnals\, pathways\, and interactions that plants use to grow and communicat
e at the molecular level.
LAST-MODIFIED:20260318T170045
LOCATION:virtual
SEQUENCE:0
STATUS:CONFIRMED
SUMMARY:GRADS-4C Seminar Speaker Series -Decoding the Chemical Languages o
f Plants
TRANSP:OPAQUE
END:VEVENT
BEGIN:VEVENT
DTSTART:20260423T130000
DTEND:20260423T140000
DTSTAMP:20260421T223954
UID:02c039549804d33a774adfa25344c6aa
CREATED:20260318T170045
DESCRIPTION:This seminar will explore modern approaches to studying plant 
biochemistry. It will focus on how researchers investigate the chemical si
gnals\, pathways\, and interactions that plants use to grow and communicat
e at the molecular level.
LAST-MODIFIED:20260318T170045
LOCATION:virtual
SEQUENCE:0
STATUS:CONFIRMED
SUMMARY:GRADS-4C Seminar Speaker Series -Decoding the Chemical Languages o
f Plants
TRANSP:OPAQUE
END:VEVENT
END:VCALENDAR
# <pass-through></pass-through>